BEGIN:VCALENDAR
VERSION:2.0
PRODID:-//Dine Fort Lauderdale - ECPv6.15.18//NONSGML v1.0//EN
CALSCALE:GREGORIAN
METHOD:PUBLISH
X-ORIGINAL-URL:https://fortlauderdalemagazine.com/dine
X-WR-CALDESC:Events for Dine Fort Lauderdale
REFRESH-INTERVAL;VALUE=DURATION:PT1H
X-Robots-Tag:noindex
X-PUBLISHED-TTL:PT1H
BEGIN:VTIMEZONE
TZID:America/New_York
BEGIN:DAYLIGHT
TZOFFSETFROM:-0500
TZOFFSETTO:-0400
TZNAME:EDT
DTSTART:20230312T070000
END:DAYLIGHT
BEGIN:STANDARD
TZOFFSETFROM:-0400
TZOFFSETTO:-0500
TZNAME:EST
DTSTART:20231105T060000
END:STANDARD
BEGIN:DAYLIGHT
TZOFFSETFROM:-0500
TZOFFSETTO:-0400
TZNAME:EDT
DTSTART:20240310T070000
END:DAYLIGHT
BEGIN:STANDARD
TZOFFSETFROM:-0400
TZOFFSETTO:-0500
TZNAME:EST
DTSTART:20241103T060000
END:STANDARD
BEGIN:DAYLIGHT
TZOFFSETFROM:-0500
TZOFFSETTO:-0400
TZNAME:EDT
DTSTART:20250309T070000
END:DAYLIGHT
BEGIN:STANDARD
TZOFFSETFROM:-0400
TZOFFSETTO:-0500
TZNAME:EST
DTSTART:20251102T060000
END:STANDARD
END:VTIMEZONE
BEGIN:VEVENT
DTSTART;TZID=America/New_York:20240314T183000
DTEND;TZID=America/New_York:20240314T223000
DTSTAMP:20260420T230358
CREATED:20231030T195822Z
LAST-MODIFIED:20240903T174744Z
UID:10000005-1710441000-1710455400@fortlauderdalemagazine.com
SUMMARY:2024 DINE Fort Lauderdale at The Capital Grille
DESCRIPTION:Michael Barone & Pastry Chef Annabelle Asher Solly\nThe Capital Grille’s part of the growing group elevating the dining scene at the Galleria. Their guests know them for their expertly prepared dry-aged steaks\, which are hand-cut by the restaurant’s in-house butcher\, as well as a diverse menu of fresh seafood and classic appetizers with a twist. \nCoconut Crusted Shrimp: Ponzu Vegetable\, Sweet and Sour Pineapple Sauce\nWild Mushroom Bisque: Crème Fraiche\, Chives\, Crispy Shiitake Mushrooms\nMacadamia Dusted Seabass: Roasted Baby Bok Choy\, Poached Red Potatoes\, Lobster Crème\n40-Day Dry Aged Sirloin: Parsnip Purée\, Spring Vegetables\, Red Wine Demi\nBaklava Rose Poached Pear: Shredded Phyllo\, Candied Pistachios\, Honey
URL:https://fortlauderdalemagazine.com/dine/event/2024-capital-grille/
LOCATION:The Capital Grille\, 2430 E Sunrise Blvd\, Fort Lauderdale\, FL\, 33304\, United States
ATTACH;FMTTYPE=image/jpeg:https://fortlauderdalemagazine.com/dine/wp-content/uploads/2023/10/dine-web-cap-grille.jpg
END:VEVENT
END:VCALENDAR