BEGIN:VCALENDAR
VERSION:2.0
PRODID:-//Dine Fort Lauderdale - ECPv6.15.18//NONSGML v1.0//EN
CALSCALE:GREGORIAN
METHOD:PUBLISH
X-WR-CALNAME:Dine Fort Lauderdale
X-ORIGINAL-URL:https://fortlauderdalemagazine.com/dine
X-WR-CALDESC:Events for Dine Fort Lauderdale
REFRESH-INTERVAL;VALUE=DURATION:PT1H
X-Robots-Tag:noindex
X-PUBLISHED-TTL:PT1H
BEGIN:VTIMEZONE
TZID:America/New_York
BEGIN:DAYLIGHT
TZOFFSETFROM:-0500
TZOFFSETTO:-0400
TZNAME:EDT
DTSTART:20230312T070000
END:DAYLIGHT
BEGIN:STANDARD
TZOFFSETFROM:-0400
TZOFFSETTO:-0500
TZNAME:EST
DTSTART:20231105T060000
END:STANDARD
BEGIN:DAYLIGHT
TZOFFSETFROM:-0500
TZOFFSETTO:-0400
TZNAME:EDT
DTSTART:20240310T070000
END:DAYLIGHT
BEGIN:STANDARD
TZOFFSETFROM:-0400
TZOFFSETTO:-0500
TZNAME:EST
DTSTART:20241103T060000
END:STANDARD
BEGIN:DAYLIGHT
TZOFFSETFROM:-0500
TZOFFSETTO:-0400
TZNAME:EDT
DTSTART:20250309T070000
END:DAYLIGHT
BEGIN:STANDARD
TZOFFSETFROM:-0400
TZOFFSETTO:-0500
TZNAME:EST
DTSTART:20251102T060000
END:STANDARD
BEGIN:DAYLIGHT
TZOFFSETFROM:-0500
TZOFFSETTO:-0400
TZNAME:EDT
DTSTART:20260308T070000
END:DAYLIGHT
BEGIN:STANDARD
TZOFFSETFROM:-0400
TZOFFSETTO:-0500
TZNAME:EST
DTSTART:20261101T060000
END:STANDARD
END:VTIMEZONE
BEGIN:VEVENT
DTSTART;TZID=America/New_York:20250508T180000
DTEND;TZID=America/New_York:20250508T220000
DTSTAMP:20260420T231032
CREATED:20240903T170344Z
LAST-MODIFIED:20251105T211922Z
UID:10000006-1746727200-1746741600@fortlauderdalemagazine.com
SUMMARY:2025 DINE Fort Lauderdale Fusion Experience at The Grateful Palate
DESCRIPTION:Our Ultimate Wine Pairing Experience. 5 Chefs\, 5 Courses\, 5 Wine Pairings. The series culminates in this “Fusion Experience” event where all DINE Fort Lauderdale partners come together for one evening showcasing a treasure trove of culinary delights. The event will feature an auction to benefit the Emeril Lagasse Foundation.
URL:https://fortlauderdalemagazine.com/dine/event/2025-grateful-palate/
LOCATION:The Grateful Palate Catering & Events\, 3003 NE 32nd Ave\, Fort Lauderdale\, FL\, 33308\, United States
ATTACH;FMTTYPE=image/jpeg:https://fortlauderdalemagazine.com/dine/wp-content/uploads/2023/10/dine-web-grateful-palate.jpg
ORGANIZER;CN="Fort Lauderdale Magazine":MAILTO:dine@flmag.com
END:VEVENT
BEGIN:VEVENT
DTSTART;TZID=America/New_York:20240523T183000
DTEND;TZID=America/New_York:20240523T223000
DTSTAMP:20260420T231032
CREATED:20231030T193828Z
LAST-MODIFIED:20240903T174332Z
UID:10000001-1716489000-1716503400@fortlauderdalemagazine.com
SUMMARY:2024 DINE Fort Lauderdale Fusion Experience at The Grateful Palate
DESCRIPTION:Our Ultimate Wine Pairing Experience. 5 Chefs\, 5 Courses\, 5 Wine Pairings. The series culminates in this “Fusion Experience” event where all DINE Fort Lauderdale partners come together for one evening showcasing a treasure trove of culinary delights. The event will feature an auction to benefit the Emeril Lagasse Foundation.
URL:https://fortlauderdalemagazine.com/dine/event/2024-grateful-palate/
LOCATION:The Grateful Palate Catering & Events\, 3003 NE 32nd Ave\, Fort Lauderdale\, FL\, 33308\, United States
ATTACH;FMTTYPE=image/jpeg:https://fortlauderdalemagazine.com/dine/wp-content/uploads/2023/10/dine-web-grateful-palate.jpg
END:VEVENT
END:VCALENDAR