BEGIN:VCALENDAR
VERSION:2.0
PRODID:-//Dine Fort Lauderdale - ECPv6.15.18//NONSGML v1.0//EN
CALSCALE:GREGORIAN
METHOD:PUBLISH
X-ORIGINAL-URL:https://fortlauderdalemagazine.com/dine
X-WR-CALDESC:Events for Dine Fort Lauderdale
REFRESH-INTERVAL;VALUE=DURATION:PT1H
X-Robots-Tag:noindex
X-PUBLISHED-TTL:PT1H
BEGIN:VTIMEZONE
TZID:America/New_York
BEGIN:DAYLIGHT
TZOFFSETFROM:-0500
TZOFFSETTO:-0400
TZNAME:EDT
DTSTART:20250309T070000
END:DAYLIGHT
BEGIN:STANDARD
TZOFFSETFROM:-0400
TZOFFSETTO:-0500
TZNAME:EST
DTSTART:20251102T060000
END:STANDARD
BEGIN:DAYLIGHT
TZOFFSETFROM:-0500
TZOFFSETTO:-0400
TZNAME:EDT
DTSTART:20260308T070000
END:DAYLIGHT
BEGIN:STANDARD
TZOFFSETFROM:-0400
TZOFFSETTO:-0500
TZNAME:EST
DTSTART:20261101T060000
END:STANDARD
BEGIN:DAYLIGHT
TZOFFSETFROM:-0500
TZOFFSETTO:-0400
TZNAME:EDT
DTSTART:20270314T070000
END:DAYLIGHT
BEGIN:STANDARD
TZOFFSETFROM:-0400
TZOFFSETTO:-0500
TZNAME:EST
DTSTART:20271107T060000
END:STANDARD
END:VTIMEZONE
BEGIN:VEVENT
DTSTART;TZID=America/New_York:20260423T180000
DTEND;TZID=America/New_York:20260423T220000
DTSTAMP:20260420T212002
CREATED:20251105T202855Z
LAST-MODIFIED:20260416T210011Z
UID:10000012-1776967200-1776981600@fortlauderdalemagazine.com
SUMMARY:2026 DINE Fort Lauderdale at Truluck's
DESCRIPTION:Truluck’s is a distinguished seafood and steak restaurant celebrated for its commitment to fresh\, sustainable ingredients. Offering a refined dining experience\, Truluck’s combines the richness of prime steaks with the finest seafood selections. The restaurant is praised not only for its exquisite cuisine but also for its warm\, inviting atmosphere and attentive service.
URL:https://fortlauderdalemagazine.com/dine/event/2026-trulucks/
LOCATION:Truluck’s Ocean’s Finest Seafood & Crab\, 701 N Fort Lauderdale Beach Blvd\, Fort Lauderdale\, FL\, 33304\, United States
ATTACH;FMTTYPE=image/jpeg:https://fortlauderdalemagazine.com/dine/wp-content/uploads/2023/10/dine-web-trulucks.jpg
END:VEVENT
END:VCALENDAR