BEGIN:VCALENDAR
VERSION:2.0
PRODID:-//Fort Lauderdale Magazine - ECPv6.15.18//NONSGML v1.0//EN
CALSCALE:GREGORIAN
METHOD:PUBLISH
X-WR-CALNAME:Fort Lauderdale Magazine
X-ORIGINAL-URL:https://fortlauderdalemagazine.com
X-WR-CALDESC:Events for Fort Lauderdale Magazine
REFRESH-INTERVAL;VALUE=DURATION:PT1H
X-Robots-Tag:noindex
X-PUBLISHED-TTL:PT1H
BEGIN:VTIMEZONE
TZID:America/New_York
BEGIN:DAYLIGHT
TZOFFSETFROM:-0500
TZOFFSETTO:-0400
TZNAME:EDT
DTSTART:20250309T070000
END:DAYLIGHT
BEGIN:STANDARD
TZOFFSETFROM:-0400
TZOFFSETTO:-0500
TZNAME:EST
DTSTART:20251102T060000
END:STANDARD
BEGIN:DAYLIGHT
TZOFFSETFROM:-0500
TZOFFSETTO:-0400
TZNAME:EDT
DTSTART:20260308T070000
END:DAYLIGHT
BEGIN:STANDARD
TZOFFSETFROM:-0400
TZOFFSETTO:-0500
TZNAME:EST
DTSTART:20261101T060000
END:STANDARD
BEGIN:DAYLIGHT
TZOFFSETFROM:-0500
TZOFFSETTO:-0400
TZNAME:EDT
DTSTART:20270314T070000
END:DAYLIGHT
BEGIN:STANDARD
TZOFFSETFROM:-0400
TZOFFSETTO:-0500
TZNAME:EST
DTSTART:20271107T060000
END:STANDARD
END:VTIMEZONE
BEGIN:VEVENT
DTSTART;TZID=America/New_York:20260521T183000
DTEND;TZID=America/New_York:20260521T213000
DTSTAMP:20260424T105318
CREATED:20260327T194832Z
LAST-MODIFIED:20260327T194832Z
UID:10010023-1779388200-1779399000@fortlauderdalemagazine.com
SUMMARY:Ladies Night Market at The Shorely by The Flamingo Flea
DESCRIPTION:Ladies Can Enjoy Complimentary Spirits\, Wine & Bubbly While Browsing Our Pop-Up With Handmade & Local Vendors Featuring Fresh Styles\, Custom Accessories & Hands On Activations. The Shorely at Marina Village 951 Seabreeze Blvd \nSoak up with views on The Shorely’s double decker ferry boat\, meet up with friends or make new ones!
URL:https://fortlauderdalemagazine.com/event/ladies-night-market-at-the-shorely-by-the-flamingo-flea/
LOCATION:The Shorely At Marina Village\, 849 Seabreeze Blvd\, Fort Lauderdale\, TX\, 33316\, United States
CATEGORIES:Food & Drink
ORGANIZER;CN="Flamingo Flea":MAILTO:carleysuzann@gmail.com
END:VEVENT
END:VCALENDAR