BEGIN:VCALENDAR
VERSION:2.0
PRODID:-//Fort Lauderdale Magazine - ECPv6.15.18//NONSGML v1.0//EN
CALSCALE:GREGORIAN
METHOD:PUBLISH
X-ORIGINAL-URL:https://fortlauderdalemagazine.com
X-WR-CALDESC:Events for Fort Lauderdale Magazine
REFRESH-INTERVAL;VALUE=DURATION:PT1H
X-Robots-Tag:noindex
X-PUBLISHED-TTL:PT1H
BEGIN:VTIMEZONE
TZID:America/New_York
BEGIN:DAYLIGHT
TZOFFSETFROM:-0500
TZOFFSETTO:-0400
TZNAME:EDT
DTSTART:20250309T070000
END:DAYLIGHT
BEGIN:STANDARD
TZOFFSETFROM:-0400
TZOFFSETTO:-0500
TZNAME:EST
DTSTART:20251102T060000
END:STANDARD
BEGIN:DAYLIGHT
TZOFFSETFROM:-0500
TZOFFSETTO:-0400
TZNAME:EDT
DTSTART:20260308T070000
END:DAYLIGHT
BEGIN:STANDARD
TZOFFSETFROM:-0400
TZOFFSETTO:-0500
TZNAME:EST
DTSTART:20261101T060000
END:STANDARD
BEGIN:DAYLIGHT
TZOFFSETFROM:-0500
TZOFFSETTO:-0400
TZNAME:EDT
DTSTART:20270314T070000
END:DAYLIGHT
BEGIN:STANDARD
TZOFFSETFROM:-0400
TZOFFSETTO:-0500
TZNAME:EST
DTSTART:20271107T060000
END:STANDARD
END:VTIMEZONE
BEGIN:VEVENT
DTSTART;TZID=America/New_York:20260423T183000
DTEND;TZID=America/New_York:20260423T203000
DTSTAMP:20260424T123301
CREATED:20260414T152848Z
LAST-MODIFIED:20260414T152848Z
UID:10010061-1776969000-1776976200@fortlauderdalemagazine.com
SUMMARY:Glenfiddich x Aston Martin F1 Showcase Dinner at Trump National Doral Miami
DESCRIPTION:Experience an elevated evening of luxury and craftsmanship at Trump National Doral’s Experience Salon with an exclusive Glenfiddich x Aston Martin F1 Showcase Dinner. This intimate\, curated dining event celebrates the artistry behind Glenfiddich Single Malt Scotch whisky alongside the precision and innovation synonymous with Aston Martin Formula One. \nGuests will enjoy a thoughtfully designed menu paired with Glenfiddich’s signature expressions\, highlighting notes of crisp orchard fruit\, rich oak\, and warming spice. The evening blends culinary excellence with a premium spirits experience\, creating a refined atmosphere for discerning guests. \nWith limited seating available\, advance reservations are required for this one-night-only showcase of flavor\, performance\, and design. \nReserve your spot now!: https://www.trumphotels.com/miami/events-in-miami
URL:https://fortlauderdalemagazine.com/event/glenfiddich-x-aston-martin-f1-showcase-dinner-at-trump-national-doral-miami/
LOCATION:Trump National Doral Miami\, 4400 NW 87th Ave\, Miami\, FL 33178\, Doral\, FL\, 33178\, United States
CATEGORIES:Food & Drink
END:VEVENT
END:VCALENDAR