BEGIN:VCALENDAR
VERSION:2.0
PRODID:-//Fort Lauderdale Magazine - ECPv6.15.18//NONSGML v1.0//EN
CALSCALE:GREGORIAN
METHOD:PUBLISH
X-ORIGINAL-URL:https://fortlauderdalemagazine.com
X-WR-CALDESC:Events for Fort Lauderdale Magazine
REFRESH-INTERVAL;VALUE=DURATION:PT1H
X-Robots-Tag:noindex
X-PUBLISHED-TTL:PT1H
BEGIN:VTIMEZONE
TZID:America/New_York
BEGIN:DAYLIGHT
TZOFFSETFROM:-0500
TZOFFSETTO:-0400
TZNAME:EDT
DTSTART:20250309T070000
END:DAYLIGHT
BEGIN:STANDARD
TZOFFSETFROM:-0400
TZOFFSETTO:-0500
TZNAME:EST
DTSTART:20251102T060000
END:STANDARD
BEGIN:DAYLIGHT
TZOFFSETFROM:-0500
TZOFFSETTO:-0400
TZNAME:EDT
DTSTART:20260308T070000
END:DAYLIGHT
BEGIN:STANDARD
TZOFFSETFROM:-0400
TZOFFSETTO:-0500
TZNAME:EST
DTSTART:20261101T060000
END:STANDARD
BEGIN:DAYLIGHT
TZOFFSETFROM:-0500
TZOFFSETTO:-0400
TZNAME:EDT
DTSTART:20270314T070000
END:DAYLIGHT
BEGIN:STANDARD
TZOFFSETFROM:-0400
TZOFFSETTO:-0500
TZNAME:EST
DTSTART:20271107T060000
END:STANDARD
END:VTIMEZONE
BEGIN:VEVENT
DTSTART;TZID=America/New_York:20260622T090000
DTEND;TZID=America/New_York:20260623T180000
DTSTAMP:20260424T123219
CREATED:20250917T183420Z
LAST-MODIFIED:20260318T155351Z
UID:10008468-1782118800-1782237600@fortlauderdalemagazine.com
SUMMARY:2ND INTERNATIONAL CONFERENCE ON NURSING EDUCATION AND HEALTHCARE
DESCRIPTION:Greetings from Intelli Meetings!\nWe are pleased to invite you to the International Conference on Nursing Education & Healthcare 2026\, taking place on June 22–23\, 2026\, in London\, UK.\nTheme: “Caring Beyond Boundaries: Nursing’s Impact on Global Health”\nJoin over 300 international professionals—nurses\, educators\, and researchers—for keynote sessions\, presentations\, panel discussions\, and global networking opportunities focused on advancing nursing education and healthcare.\nMore about us: https://nursingeducationconferences.org\nIf you are a speaker or oral presentor kindly Submit us your abstract: https://nursingeducationconferences.org/submit-abstract\nVenue: London Hayth palace – A Global Hub of Culture\, History\, and Innovation.\nFor queries\, feel free to reply/contact us.\nWe look forward to your participation!\nWarm regards\,\nMounisha Nandivada\nProgram Manager\nIntelli Meetings
URL:https://fortlauderdalemagazine.com/event/2nd-international-conference-on-nursing-education-and-healthcare/
ATTACH;FMTTYPE=image/jpeg:https://fortlauderdalemagazine.com/wp-content/uploads/2025/09/intelliglobalconferece.jpg
ORGANIZER;CN="mounisha nandivada":MAILTO:nursingcare@intellimeetings.org
END:VEVENT
END:VCALENDAR