BEGIN:VCALENDAR
VERSION:2.0
PRODID:-//Fort Lauderdale Magazine - ECPv6.15.18//NONSGML v1.0//EN
CALSCALE:GREGORIAN
METHOD:PUBLISH
X-ORIGINAL-URL:https://fortlauderdalemagazine.com
X-WR-CALDESC:Events for Fort Lauderdale Magazine
REFRESH-INTERVAL;VALUE=DURATION:PT1H
X-Robots-Tag:noindex
X-PUBLISHED-TTL:PT1H
BEGIN:VTIMEZONE
TZID:America/New_York
BEGIN:DAYLIGHT
TZOFFSETFROM:-0500
TZOFFSETTO:-0400
TZNAME:EDT
DTSTART:20250309T070000
END:DAYLIGHT
BEGIN:STANDARD
TZOFFSETFROM:-0400
TZOFFSETTO:-0500
TZNAME:EST
DTSTART:20251102T060000
END:STANDARD
BEGIN:DAYLIGHT
TZOFFSETFROM:-0500
TZOFFSETTO:-0400
TZNAME:EDT
DTSTART:20260308T070000
END:DAYLIGHT
BEGIN:STANDARD
TZOFFSETFROM:-0400
TZOFFSETTO:-0500
TZNAME:EST
DTSTART:20261101T060000
END:STANDARD
BEGIN:DAYLIGHT
TZOFFSETFROM:-0500
TZOFFSETTO:-0400
TZNAME:EDT
DTSTART:20270314T070000
END:DAYLIGHT
BEGIN:STANDARD
TZOFFSETFROM:-0400
TZOFFSETTO:-0500
TZNAME:EST
DTSTART:20271107T060000
END:STANDARD
END:VTIMEZONE
BEGIN:VEVENT
DTSTART;TZID=America/New_York:20260405T110000
DTEND;TZID=America/New_York:20260405T153000
DTSTAMP:20260424T052446
CREATED:20260327T194013Z
LAST-MODIFIED:20260327T194013Z
UID:10010018-1775386800-1775403000@fortlauderdalemagazine.com
SUMMARY:Easter Brunch at Oceanic at Pompano Pier
DESCRIPTION:Celebrate Easter Sunday seaside with Oceanic at Pompano Beach Pier with two distinct ways to brunch on Sunday\, April 5. Guests can indulge in a festive oceanfront Easter Brunch Buffet on the rooftop terrace from 11 a.m. to 3:30 p.m.\, featuring prime rib and ham carving stations\, made-to-order omelets\, classic breakfast favorites\, fresh seafood displays\, seasonal sides and assorted pastries. Tickets for the brunch buffet must be reserved on Resy ($69 per adult; $20 per child 10 and under). Upgrade with bottomless mimosas for $30 per person. \nFor a more relaxed family affair\, dine downstairs with Oceanic’s full a la carte brunch menu available during Brunch Unplugged\, complete with live acoustic music from noon to 3 p.m.
URL:https://fortlauderdalemagazine.com/event/easter-brunch-at-oceanic-at-pompano-pier/
LOCATION:Oceanic at Pompano Beach 250 N. Pompano Beach Blvd. Pompano Beach\, FL 33062\, 250 N. Pompano Beach Blvd.\, Pompano Beach\, FL\, 33062\, United States
ORGANIZER;CN="Oceanic at Pompano Beach":MAILTO:lm@dureeandcompany.com
END:VEVENT
END:VCALENDAR