BEGIN:VCALENDAR
VERSION:2.0
PRODID:-//Fort Lauderdale Magazine - ECPv6.15.18//NONSGML v1.0//EN
CALSCALE:GREGORIAN
METHOD:PUBLISH
X-WR-CALNAME:Fort Lauderdale Magazine
X-ORIGINAL-URL:https://fortlauderdalemagazine.com
X-WR-CALDESC:Events for Fort Lauderdale Magazine
REFRESH-INTERVAL;VALUE=DURATION:PT1H
X-Robots-Tag:noindex
X-PUBLISHED-TTL:PT1H
BEGIN:VTIMEZONE
TZID:America/New_York
BEGIN:DAYLIGHT
TZOFFSETFROM:-0500
TZOFFSETTO:-0400
TZNAME:EDT
DTSTART:20250309T070000
END:DAYLIGHT
BEGIN:STANDARD
TZOFFSETFROM:-0400
TZOFFSETTO:-0500
TZNAME:EST
DTSTART:20251102T060000
END:STANDARD
BEGIN:DAYLIGHT
TZOFFSETFROM:-0500
TZOFFSETTO:-0400
TZNAME:EDT
DTSTART:20260308T070000
END:DAYLIGHT
BEGIN:STANDARD
TZOFFSETFROM:-0400
TZOFFSETTO:-0500
TZNAME:EST
DTSTART:20261101T060000
END:STANDARD
BEGIN:DAYLIGHT
TZOFFSETFROM:-0500
TZOFFSETTO:-0400
TZNAME:EDT
DTSTART:20270314T070000
END:DAYLIGHT
BEGIN:STANDARD
TZOFFSETFROM:-0400
TZOFFSETTO:-0500
TZNAME:EST
DTSTART:20271107T060000
END:STANDARD
END:VTIMEZONE
BEGIN:VEVENT
DTSTART;TZID=America/New_York:20260418T150000
DTEND;TZID=America/New_York:20260418T173000
DTSTAMP:20260424T090008
CREATED:20260414T152831Z
LAST-MODIFIED:20260414T152831Z
UID:10010062-1776524400-1776533400@fortlauderdalemagazine.com
SUMMARY:PETA Once Upon a Time...Come Relive PETA's Magical Milestones
DESCRIPTION:You’re invited to join PETA founder Ingrid Newkirk and President Tracy Reiman along with PETA’s leaders for a journey like no other—a celebration with cocktails\, canapés\, and commemorations. Together\, we’ll step back into a time before PETA existed\, then be transported back to the here and now\, where millions of animals are safe and sound\, thanks to our revolutionary work! Our last stop—the not-so-distant future\, when animals will be liberated from every imaginable harm\, thanks to PETA’s new plans and committed supporters like you! \nWhen: Saturday\, April 18\, 3:00 p.m.—5:30 p.m. \nWhere: Broward Center for the Performing Arts\, Fort Lauderdale\, Florida \nCome enjoy a special retelling of some of the most exciting first steps on the path to big wins for animals. Hear how PETA is altering animals’ fates with groundbreaking advances in science\, innovative legal strategies\, daring undercover investigations\, and hard-hitting campaigns that change people forever. \nConnect with local PETA supporters as we celebrate the achievements of the recipient of the Nanci Alexander Activist Award presented by staunch animal rights defender Nanci Alexander herself. \nGuests will enjoy a pop-up shop full of PETA’s hottest merchandise and can snag attractive\, cruelty-free treasures from our silent auction. \nIndividual tickets to attend are $100. Special sponsorship opportunities are also available. Additional donations are requested to benefit PETA’s impactful work. Thanks to the generosity of a fellow supporter\, all donations for this event will be matched\, so your contribution will be doubled—a tremendous boost to our current and future animal liberation work.
URL:https://fortlauderdalemagazine.com/event/peta-once-upon-a-time-come-relive-petas-magical-milestones/
LOCATION:Broward Center for the Performing Arts\, 201 SW 5th Ave\, Fort Lauderdale\, FL 33312\, Fort Lauderdale\, FL\, 33312\, United States
ATTACH;FMTTYPE=image/jpeg:https://fortlauderdalemagazine.com/wp-content/uploads/2026/04/Once-Upon-a-Time-HP.jpg
ORGANIZER;CN="PETA":MAILTO:sarag@peta.org
END:VEVENT
END:VCALENDAR