BEGIN:VCALENDAR
VERSION:2.0
PRODID:-//Fort Lauderdale Magazine - ECPv6.15.18//NONSGML v1.0//EN
CALSCALE:GREGORIAN
METHOD:PUBLISH
X-WR-CALNAME:Fort Lauderdale Magazine
X-ORIGINAL-URL:https://fortlauderdalemagazine.com
X-WR-CALDESC:Events for Fort Lauderdale Magazine
REFRESH-INTERVAL;VALUE=DURATION:PT1H
X-Robots-Tag:noindex
X-PUBLISHED-TTL:PT1H
BEGIN:VTIMEZONE
TZID:America/New_York
BEGIN:DAYLIGHT
TZOFFSETFROM:-0500
TZOFFSETTO:-0400
TZNAME:EDT
DTSTART:20250309T070000
END:DAYLIGHT
BEGIN:STANDARD
TZOFFSETFROM:-0400
TZOFFSETTO:-0500
TZNAME:EST
DTSTART:20251102T060000
END:STANDARD
BEGIN:DAYLIGHT
TZOFFSETFROM:-0500
TZOFFSETTO:-0400
TZNAME:EDT
DTSTART:20260308T070000
END:DAYLIGHT
BEGIN:STANDARD
TZOFFSETFROM:-0400
TZOFFSETTO:-0500
TZNAME:EST
DTSTART:20261101T060000
END:STANDARD
BEGIN:DAYLIGHT
TZOFFSETFROM:-0500
TZOFFSETTO:-0400
TZNAME:EDT
DTSTART:20270314T070000
END:DAYLIGHT
BEGIN:STANDARD
TZOFFSETFROM:-0400
TZOFFSETTO:-0500
TZNAME:EST
DTSTART:20271107T060000
END:STANDARD
END:VTIMEZONE
BEGIN:VEVENT
DTSTART;TZID=America/New_York:20260620T150000
DTEND;TZID=America/New_York:20260628T170000
DTSTAMP:20260424T075456
CREATED:20260327T200235Z
LAST-MODIFIED:20260327T200235Z
UID:10010004-1781967600-1782666000@fortlauderdalemagazine.com
SUMMARY:Brévo Theatre Presents the South Florida Premiere of “The Color Purple”
DESCRIPTION:Brévo Theatre brings the South Florida premiere of “The Color Purple” to the Pompano Beach Cultural Center. Directed by Bryan Keyth Wilson with choreography by TM Pride\, the musical follows Celie’s 40-year journey of survival\, self-discovery and empowerment. The score blends jazz\, ragtime\, gospel\, blues and African music in an unforgettable celebration of hope\, love and community. Tickets start at $55\, with VIP options available. \nTickets are $55 general admission and $70 VIP (includes one complimentary drink\, cabaret table seating and a complimentary mason jar). Select dates include special experiences: Brunch & Blues at Harpo’s with Just Spoons Café (June 20 and June 27; June 27 begins at 1 p.m.) and Celie’s Sunday Spread post-show dinner celebration (June 21 and June 28). \nHappens on the following Dates:\nJun 20\, 2026\, 3:00pm to\nJun 21\, 2026\, 5:00pm Timezone: Eastern Time (US & Canada)\nJun 20\, 2026\, 7:30pm to 9:30pm Timezone: Eastern Time (US & Canada)\nJun 24\, 2026\, 7:30pm to\nJun 27\, 2026\, 9:30pm Timezone: Eastern Time (US & Canada)\nJun 27\, 2026\, 3:00pm to\nJun 28\, 2026\, 5:00pm Timezone: Eastern Time (US & Canada)
URL:https://fortlauderdalemagazine.com/event/brevo-theatre-presents-the-south-florida-premiere-of-the-color-purple/2026-06-20/1/
LOCATION:Pompano Beach Cultural Center\, 50 West Atlantic Boulevard Pompano Beach\, FL 33060 United States\, Pompano Beach Cultural Center\, FL\, 33060\, United States
ATTACH;FMTTYPE=image/png:https://fortlauderdalemagazine.com/wp-content/uploads/2026/03/Brevo-Theatre.png
ORGANIZER;CN="Wander PR Team":MAILTO:info@brevotheatre.org
END:VEVENT
BEGIN:VEVENT
DTSTART;TZID=America/New_York:20260620T193000
DTEND;TZID=America/New_York:20260620T213000
DTSTAMP:20260424T075456
CREATED:20260327T200235Z
LAST-MODIFIED:20260327T200235Z
UID:10010005-1781983800-1781991000@fortlauderdalemagazine.com
SUMMARY:Brévo Theatre Presents the South Florida Premiere of “The Color Purple”
DESCRIPTION:Brévo Theatre brings the South Florida premiere of “The Color Purple” to the Pompano Beach Cultural Center. Directed by Bryan Keyth Wilson with choreography by TM Pride\, the musical follows Celie’s 40-year journey of survival\, self-discovery and empowerment. The score blends jazz\, ragtime\, gospel\, blues and African music in an unforgettable celebration of hope\, love and community. Tickets start at $55\, with VIP options available. \nTickets are $55 general admission and $70 VIP (includes one complimentary drink\, cabaret table seating and a complimentary mason jar). Select dates include special experiences: Brunch & Blues at Harpo’s with Just Spoons Café (June 20 and June 27; June 27 begins at 1 p.m.) and Celie’s Sunday Spread post-show dinner celebration (June 21 and June 28). \nHappens on the following Dates:\nJun 20\, 2026\, 3:00pm to\nJun 21\, 2026\, 5:00pm Timezone: Eastern Time (US & Canada)\nJun 20\, 2026\, 7:30pm to 9:30pm Timezone: Eastern Time (US & Canada)\nJun 24\, 2026\, 7:30pm to\nJun 27\, 2026\, 9:30pm Timezone: Eastern Time (US & Canada)\nJun 27\, 2026\, 3:00pm to\nJun 28\, 2026\, 5:00pm Timezone: Eastern Time (US & Canada)
URL:https://fortlauderdalemagazine.com/event/brevo-theatre-presents-the-south-florida-premiere-of-the-color-purple/2026-06-20/2/
LOCATION:Pompano Beach Cultural Center\, 50 West Atlantic Boulevard Pompano Beach\, FL 33060 United States\, Pompano Beach Cultural Center\, FL\, 33060\, United States
ATTACH;FMTTYPE=image/png:https://fortlauderdalemagazine.com/wp-content/uploads/2026/03/Brevo-Theatre.png
ORGANIZER;CN="Wander PR Team":MAILTO:info@brevotheatre.org
END:VEVENT
BEGIN:VEVENT
DTSTART;TZID=America/New_York:20260621T150000
DTEND;TZID=America/New_York:20260621T170000
DTSTAMP:20260424T075456
CREATED:20260327T200235Z
LAST-MODIFIED:20260327T200235Z
UID:10010006-1782054000-1782061200@fortlauderdalemagazine.com
SUMMARY:Brévo Theatre Presents the South Florida Premiere of “The Color Purple”
DESCRIPTION:Brévo Theatre brings the South Florida premiere of “The Color Purple” to the Pompano Beach Cultural Center. Directed by Bryan Keyth Wilson with choreography by TM Pride\, the musical follows Celie’s 40-year journey of survival\, self-discovery and empowerment. The score blends jazz\, ragtime\, gospel\, blues and African music in an unforgettable celebration of hope\, love and community. Tickets start at $55\, with VIP options available. \nTickets are $55 general admission and $70 VIP (includes one complimentary drink\, cabaret table seating and a complimentary mason jar). Select dates include special experiences: Brunch & Blues at Harpo’s with Just Spoons Café (June 20 and June 27; June 27 begins at 1 p.m.) and Celie’s Sunday Spread post-show dinner celebration (June 21 and June 28). \nHappens on the following Dates:\nJun 20\, 2026\, 3:00pm to\nJun 21\, 2026\, 5:00pm Timezone: Eastern Time (US & Canada)\nJun 20\, 2026\, 7:30pm to 9:30pm Timezone: Eastern Time (US & Canada)\nJun 24\, 2026\, 7:30pm to\nJun 27\, 2026\, 9:30pm Timezone: Eastern Time (US & Canada)\nJun 27\, 2026\, 3:00pm to\nJun 28\, 2026\, 5:00pm Timezone: Eastern Time (US & Canada)
URL:https://fortlauderdalemagazine.com/event/brevo-theatre-presents-the-south-florida-premiere-of-the-color-purple/2026-06-21/
LOCATION:Pompano Beach Cultural Center\, 50 West Atlantic Boulevard Pompano Beach\, FL 33060 United States\, Pompano Beach Cultural Center\, FL\, 33060\, United States
ATTACH;FMTTYPE=image/png:https://fortlauderdalemagazine.com/wp-content/uploads/2026/03/Brevo-Theatre.png
ORGANIZER;CN="Wander PR Team":MAILTO:info@brevotheatre.org
END:VEVENT
BEGIN:VEVENT
DTSTART;TZID=America/New_York:20260624T193000
DTEND;TZID=America/New_York:20260624T213000
DTSTAMP:20260424T075456
CREATED:20260327T200235Z
LAST-MODIFIED:20260327T200235Z
UID:10010007-1782329400-1782336600@fortlauderdalemagazine.com
SUMMARY:Brévo Theatre Presents the South Florida Premiere of “The Color Purple”
DESCRIPTION:Brévo Theatre brings the South Florida premiere of “The Color Purple” to the Pompano Beach Cultural Center. Directed by Bryan Keyth Wilson with choreography by TM Pride\, the musical follows Celie’s 40-year journey of survival\, self-discovery and empowerment. The score blends jazz\, ragtime\, gospel\, blues and African music in an unforgettable celebration of hope\, love and community. Tickets start at $55\, with VIP options available. \nTickets are $55 general admission and $70 VIP (includes one complimentary drink\, cabaret table seating and a complimentary mason jar). Select dates include special experiences: Brunch & Blues at Harpo’s with Just Spoons Café (June 20 and June 27; June 27 begins at 1 p.m.) and Celie’s Sunday Spread post-show dinner celebration (June 21 and June 28). \nHappens on the following Dates:\nJun 20\, 2026\, 3:00pm to\nJun 21\, 2026\, 5:00pm Timezone: Eastern Time (US & Canada)\nJun 20\, 2026\, 7:30pm to 9:30pm Timezone: Eastern Time (US & Canada)\nJun 24\, 2026\, 7:30pm to\nJun 27\, 2026\, 9:30pm Timezone: Eastern Time (US & Canada)\nJun 27\, 2026\, 3:00pm to\nJun 28\, 2026\, 5:00pm Timezone: Eastern Time (US & Canada)
URL:https://fortlauderdalemagazine.com/event/brevo-theatre-presents-the-south-florida-premiere-of-the-color-purple/2026-06-24/
LOCATION:Pompano Beach Cultural Center\, 50 West Atlantic Boulevard Pompano Beach\, FL 33060 United States\, Pompano Beach Cultural Center\, FL\, 33060\, United States
ATTACH;FMTTYPE=image/png:https://fortlauderdalemagazine.com/wp-content/uploads/2026/03/Brevo-Theatre.png
ORGANIZER;CN="Wander PR Team":MAILTO:info@brevotheatre.org
END:VEVENT
BEGIN:VEVENT
DTSTART;TZID=America/New_York:20260625T193000
DTEND;TZID=America/New_York:20260625T213000
DTSTAMP:20260424T075456
CREATED:20260327T200235Z
LAST-MODIFIED:20260327T200235Z
UID:10010008-1782415800-1782423000@fortlauderdalemagazine.com
SUMMARY:Brévo Theatre Presents the South Florida Premiere of “The Color Purple”
DESCRIPTION:Brévo Theatre brings the South Florida premiere of “The Color Purple” to the Pompano Beach Cultural Center. Directed by Bryan Keyth Wilson with choreography by TM Pride\, the musical follows Celie’s 40-year journey of survival\, self-discovery and empowerment. The score blends jazz\, ragtime\, gospel\, blues and African music in an unforgettable celebration of hope\, love and community. Tickets start at $55\, with VIP options available. \nTickets are $55 general admission and $70 VIP (includes one complimentary drink\, cabaret table seating and a complimentary mason jar). Select dates include special experiences: Brunch & Blues at Harpo’s with Just Spoons Café (June 20 and June 27; June 27 begins at 1 p.m.) and Celie’s Sunday Spread post-show dinner celebration (June 21 and June 28). \nHappens on the following Dates:\nJun 20\, 2026\, 3:00pm to\nJun 21\, 2026\, 5:00pm Timezone: Eastern Time (US & Canada)\nJun 20\, 2026\, 7:30pm to 9:30pm Timezone: Eastern Time (US & Canada)\nJun 24\, 2026\, 7:30pm to\nJun 27\, 2026\, 9:30pm Timezone: Eastern Time (US & Canada)\nJun 27\, 2026\, 3:00pm to\nJun 28\, 2026\, 5:00pm Timezone: Eastern Time (US & Canada)
URL:https://fortlauderdalemagazine.com/event/brevo-theatre-presents-the-south-florida-premiere-of-the-color-purple/2026-06-25/
LOCATION:Pompano Beach Cultural Center\, 50 West Atlantic Boulevard Pompano Beach\, FL 33060 United States\, Pompano Beach Cultural Center\, FL\, 33060\, United States
ATTACH;FMTTYPE=image/png:https://fortlauderdalemagazine.com/wp-content/uploads/2026/03/Brevo-Theatre.png
ORGANIZER;CN="Wander PR Team":MAILTO:info@brevotheatre.org
END:VEVENT
BEGIN:VEVENT
DTSTART;TZID=America/New_York:20260626T193000
DTEND;TZID=America/New_York:20260626T213000
DTSTAMP:20260424T075456
CREATED:20260327T200235Z
LAST-MODIFIED:20260327T200235Z
UID:10010009-1782502200-1782509400@fortlauderdalemagazine.com
SUMMARY:Brévo Theatre Presents the South Florida Premiere of “The Color Purple”
DESCRIPTION:Brévo Theatre brings the South Florida premiere of “The Color Purple” to the Pompano Beach Cultural Center. Directed by Bryan Keyth Wilson with choreography by TM Pride\, the musical follows Celie’s 40-year journey of survival\, self-discovery and empowerment. The score blends jazz\, ragtime\, gospel\, blues and African music in an unforgettable celebration of hope\, love and community. Tickets start at $55\, with VIP options available. \nTickets are $55 general admission and $70 VIP (includes one complimentary drink\, cabaret table seating and a complimentary mason jar). Select dates include special experiences: Brunch & Blues at Harpo’s with Just Spoons Café (June 20 and June 27; June 27 begins at 1 p.m.) and Celie’s Sunday Spread post-show dinner celebration (June 21 and June 28). \nHappens on the following Dates:\nJun 20\, 2026\, 3:00pm to\nJun 21\, 2026\, 5:00pm Timezone: Eastern Time (US & Canada)\nJun 20\, 2026\, 7:30pm to 9:30pm Timezone: Eastern Time (US & Canada)\nJun 24\, 2026\, 7:30pm to\nJun 27\, 2026\, 9:30pm Timezone: Eastern Time (US & Canada)\nJun 27\, 2026\, 3:00pm to\nJun 28\, 2026\, 5:00pm Timezone: Eastern Time (US & Canada)
URL:https://fortlauderdalemagazine.com/event/brevo-theatre-presents-the-south-florida-premiere-of-the-color-purple/2026-06-26/
LOCATION:Pompano Beach Cultural Center\, 50 West Atlantic Boulevard Pompano Beach\, FL 33060 United States\, Pompano Beach Cultural Center\, FL\, 33060\, United States
ATTACH;FMTTYPE=image/png:https://fortlauderdalemagazine.com/wp-content/uploads/2026/03/Brevo-Theatre.png
ORGANIZER;CN="Wander PR Team":MAILTO:info@brevotheatre.org
END:VEVENT
BEGIN:VEVENT
DTSTART;TZID=America/New_York:20260627T150000
DTEND;TZID=America/New_York:20260627T170000
DTSTAMP:20260424T075456
CREATED:20260327T200235Z
LAST-MODIFIED:20260327T200235Z
UID:10010010-1782572400-1782579600@fortlauderdalemagazine.com
SUMMARY:Brévo Theatre Presents the South Florida Premiere of “The Color Purple”
DESCRIPTION:Brévo Theatre brings the South Florida premiere of “The Color Purple” to the Pompano Beach Cultural Center. Directed by Bryan Keyth Wilson with choreography by TM Pride\, the musical follows Celie’s 40-year journey of survival\, self-discovery and empowerment. The score blends jazz\, ragtime\, gospel\, blues and African music in an unforgettable celebration of hope\, love and community. Tickets start at $55\, with VIP options available. \nTickets are $55 general admission and $70 VIP (includes one complimentary drink\, cabaret table seating and a complimentary mason jar). Select dates include special experiences: Brunch & Blues at Harpo’s with Just Spoons Café (June 20 and June 27; June 27 begins at 1 p.m.) and Celie’s Sunday Spread post-show dinner celebration (June 21 and June 28). \nHappens on the following Dates:\nJun 20\, 2026\, 3:00pm to\nJun 21\, 2026\, 5:00pm Timezone: Eastern Time (US & Canada)\nJun 20\, 2026\, 7:30pm to 9:30pm Timezone: Eastern Time (US & Canada)\nJun 24\, 2026\, 7:30pm to\nJun 27\, 2026\, 9:30pm Timezone: Eastern Time (US & Canada)\nJun 27\, 2026\, 3:00pm to\nJun 28\, 2026\, 5:00pm Timezone: Eastern Time (US & Canada)
URL:https://fortlauderdalemagazine.com/event/brevo-theatre-presents-the-south-florida-premiere-of-the-color-purple/2026-06-27/1/
LOCATION:Pompano Beach Cultural Center\, 50 West Atlantic Boulevard Pompano Beach\, FL 33060 United States\, Pompano Beach Cultural Center\, FL\, 33060\, United States
ATTACH;FMTTYPE=image/png:https://fortlauderdalemagazine.com/wp-content/uploads/2026/03/Brevo-Theatre.png
ORGANIZER;CN="Wander PR Team":MAILTO:info@brevotheatre.org
END:VEVENT
BEGIN:VEVENT
DTSTART;TZID=America/New_York:20260627T193000
DTEND;TZID=America/New_York:20260627T213000
DTSTAMP:20260424T075456
CREATED:20260327T200235Z
LAST-MODIFIED:20260327T200235Z
UID:10010011-1782588600-1782595800@fortlauderdalemagazine.com
SUMMARY:Brévo Theatre Presents the South Florida Premiere of “The Color Purple”
DESCRIPTION:Brévo Theatre brings the South Florida premiere of “The Color Purple” to the Pompano Beach Cultural Center. Directed by Bryan Keyth Wilson with choreography by TM Pride\, the musical follows Celie’s 40-year journey of survival\, self-discovery and empowerment. The score blends jazz\, ragtime\, gospel\, blues and African music in an unforgettable celebration of hope\, love and community. Tickets start at $55\, with VIP options available. \nTickets are $55 general admission and $70 VIP (includes one complimentary drink\, cabaret table seating and a complimentary mason jar). Select dates include special experiences: Brunch & Blues at Harpo’s with Just Spoons Café (June 20 and June 27; June 27 begins at 1 p.m.) and Celie’s Sunday Spread post-show dinner celebration (June 21 and June 28). \nHappens on the following Dates:\nJun 20\, 2026\, 3:00pm to\nJun 21\, 2026\, 5:00pm Timezone: Eastern Time (US & Canada)\nJun 20\, 2026\, 7:30pm to 9:30pm Timezone: Eastern Time (US & Canada)\nJun 24\, 2026\, 7:30pm to\nJun 27\, 2026\, 9:30pm Timezone: Eastern Time (US & Canada)\nJun 27\, 2026\, 3:00pm to\nJun 28\, 2026\, 5:00pm Timezone: Eastern Time (US & Canada)
URL:https://fortlauderdalemagazine.com/event/brevo-theatre-presents-the-south-florida-premiere-of-the-color-purple/2026-06-27/2/
LOCATION:Pompano Beach Cultural Center\, 50 West Atlantic Boulevard Pompano Beach\, FL 33060 United States\, Pompano Beach Cultural Center\, FL\, 33060\, United States
ATTACH;FMTTYPE=image/png:https://fortlauderdalemagazine.com/wp-content/uploads/2026/03/Brevo-Theatre.png
ORGANIZER;CN="Wander PR Team":MAILTO:info@brevotheatre.org
END:VEVENT
BEGIN:VEVENT
DTSTART;TZID=America/New_York:20260628T150000
DTEND;TZID=America/New_York:20260628T170000
DTSTAMP:20260424T075456
CREATED:20260327T200235Z
LAST-MODIFIED:20260327T200235Z
UID:10010012-1782658800-1782666000@fortlauderdalemagazine.com
SUMMARY:Brévo Theatre Presents the South Florida Premiere of “The Color Purple”
DESCRIPTION:Brévo Theatre brings the South Florida premiere of “The Color Purple” to the Pompano Beach Cultural Center. Directed by Bryan Keyth Wilson with choreography by TM Pride\, the musical follows Celie’s 40-year journey of survival\, self-discovery and empowerment. The score blends jazz\, ragtime\, gospel\, blues and African music in an unforgettable celebration of hope\, love and community. Tickets start at $55\, with VIP options available. \nTickets are $55 general admission and $70 VIP (includes one complimentary drink\, cabaret table seating and a complimentary mason jar). Select dates include special experiences: Brunch & Blues at Harpo’s with Just Spoons Café (June 20 and June 27; June 27 begins at 1 p.m.) and Celie’s Sunday Spread post-show dinner celebration (June 21 and June 28). \nHappens on the following Dates:\nJun 20\, 2026\, 3:00pm to\nJun 21\, 2026\, 5:00pm Timezone: Eastern Time (US & Canada)\nJun 20\, 2026\, 7:30pm to 9:30pm Timezone: Eastern Time (US & Canada)\nJun 24\, 2026\, 7:30pm to\nJun 27\, 2026\, 9:30pm Timezone: Eastern Time (US & Canada)\nJun 27\, 2026\, 3:00pm to\nJun 28\, 2026\, 5:00pm Timezone: Eastern Time (US & Canada)
URL:https://fortlauderdalemagazine.com/event/brevo-theatre-presents-the-south-florida-premiere-of-the-color-purple/2026-06-28/
LOCATION:Pompano Beach Cultural Center\, 50 West Atlantic Boulevard Pompano Beach\, FL 33060 United States\, Pompano Beach Cultural Center\, FL\, 33060\, United States
ATTACH;FMTTYPE=image/png:https://fortlauderdalemagazine.com/wp-content/uploads/2026/03/Brevo-Theatre.png
ORGANIZER;CN="Wander PR Team":MAILTO:info@brevotheatre.org
END:VEVENT
END:VCALENDAR