BEGIN:VCALENDAR
VERSION:2.0
PRODID:-//Fort Lauderdale Magazine - ECPv6.15.18//NONSGML v1.0//EN
CALSCALE:GREGORIAN
METHOD:PUBLISH
X-ORIGINAL-URL:https://fortlauderdalemagazine.com
X-WR-CALDESC:Events for Fort Lauderdale Magazine
REFRESH-INTERVAL;VALUE=DURATION:PT1H
X-Robots-Tag:noindex
X-PUBLISHED-TTL:PT1H
BEGIN:VTIMEZONE
TZID:America/New_York
BEGIN:DAYLIGHT
TZOFFSETFROM:-0500
TZOFFSETTO:-0400
TZNAME:EDT
DTSTART:20250309T070000
END:DAYLIGHT
BEGIN:STANDARD
TZOFFSETFROM:-0400
TZOFFSETTO:-0500
TZNAME:EST
DTSTART:20251102T060000
END:STANDARD
BEGIN:DAYLIGHT
TZOFFSETFROM:-0500
TZOFFSETTO:-0400
TZNAME:EDT
DTSTART:20260308T070000
END:DAYLIGHT
BEGIN:STANDARD
TZOFFSETFROM:-0400
TZOFFSETTO:-0500
TZNAME:EST
DTSTART:20261101T060000
END:STANDARD
BEGIN:DAYLIGHT
TZOFFSETFROM:-0500
TZOFFSETTO:-0400
TZNAME:EDT
DTSTART:20270314T070000
END:DAYLIGHT
BEGIN:STANDARD
TZOFFSETFROM:-0400
TZOFFSETTO:-0500
TZNAME:EST
DTSTART:20271107T060000
END:STANDARD
END:VTIMEZONE
BEGIN:VEVENT
DTSTART;TZID=America/New_York:20260502T100000
DTEND;TZID=America/New_York:20260503T170000
DTSTAMP:20260424T031252
CREATED:20260414T152605Z
LAST-MODIFIED:20260414T152605Z
UID:10010069-1777716000-1777827600@fortlauderdalemagazine.com
SUMMARY:Intergalactic Bead Show 2026
DESCRIPTION:Discover dazzling\, one-of-a-kind beads and jewelry supplies from around the universe. A must-see event for creators\, collectors\, and jewelry lovers alike. \nMay 2 | 10 AM-5 PM\nMay 3 | 10 AM-4 PM | FREE\nE. Pat Larkins Center | 954-786-4585 \nTo see photos from past Parks & Rec events\, click here!
URL:https://fortlauderdalemagazine.com/event/intergalactic-bead-show-2026/2026-05-02/
LOCATION:E. Pat Larkins Center\, 520 MLK Blvd\, Pompano Beach\, FL\, 33060\, United States
CATEGORIES:Other
ATTACH;FMTTYPE=image/jpeg:https://fortlauderdalemagazine.com/wp-content/uploads/2026/04/141973-Intergalactic-Bead-Show-2026.jpg
ORGANIZER;CN="Parks &amp%3B Recreation | Pompano Beach":MAILTO:marilyn.oliva@copbfl.com
END:VEVENT
BEGIN:VEVENT
DTSTART;TZID=America/New_York:20260503T100000
DTEND;TZID=America/New_York:20260504T170000
DTSTAMP:20260424T031252
CREATED:20260414T152605Z
LAST-MODIFIED:20260414T152605Z
UID:10010070-1777802400-1777914000@fortlauderdalemagazine.com
SUMMARY:Intergalactic Bead Show 2026
DESCRIPTION:Discover dazzling\, one-of-a-kind beads and jewelry supplies from around the universe. A must-see event for creators\, collectors\, and jewelry lovers alike. \nMay 2 | 10 AM-5 PM\nMay 3 | 10 AM-4 PM | FREE\nE. Pat Larkins Center | 954-786-4585 \nTo see photos from past Parks & Rec events\, click here!
URL:https://fortlauderdalemagazine.com/event/intergalactic-bead-show-2026/2026-05-03/
LOCATION:E. Pat Larkins Center\, 520 MLK Blvd\, Pompano Beach\, FL\, 33060\, United States
CATEGORIES:Other
ATTACH;FMTTYPE=image/jpeg:https://fortlauderdalemagazine.com/wp-content/uploads/2026/04/141973-Intergalactic-Bead-Show-2026.jpg
ORGANIZER;CN="Parks &amp%3B Recreation | Pompano Beach":MAILTO:marilyn.oliva@copbfl.com
END:VEVENT
END:VCALENDAR