BEGIN:VCALENDAR
VERSION:2.0
PRODID:-//Fort Lauderdale Magazine - ECPv6.15.18//NONSGML v1.0//EN
CALSCALE:GREGORIAN
METHOD:PUBLISH
X-WR-CALNAME:Fort Lauderdale Magazine
X-ORIGINAL-URL:https://fortlauderdalemagazine.com
X-WR-CALDESC:Events for Fort Lauderdale Magazine
REFRESH-INTERVAL;VALUE=DURATION:PT1H
X-Robots-Tag:noindex
X-PUBLISHED-TTL:PT1H
BEGIN:VTIMEZONE
TZID:America/New_York
BEGIN:DAYLIGHT
TZOFFSETFROM:-0500
TZOFFSETTO:-0400
TZNAME:EDT
DTSTART:20250309T070000
END:DAYLIGHT
BEGIN:STANDARD
TZOFFSETFROM:-0400
TZOFFSETTO:-0500
TZNAME:EST
DTSTART:20251102T060000
END:STANDARD
BEGIN:DAYLIGHT
TZOFFSETFROM:-0500
TZOFFSETTO:-0400
TZNAME:EDT
DTSTART:20260308T070000
END:DAYLIGHT
BEGIN:STANDARD
TZOFFSETFROM:-0400
TZOFFSETTO:-0500
TZNAME:EST
DTSTART:20261101T060000
END:STANDARD
BEGIN:DAYLIGHT
TZOFFSETFROM:-0500
TZOFFSETTO:-0400
TZNAME:EDT
DTSTART:20270314T070000
END:DAYLIGHT
BEGIN:STANDARD
TZOFFSETFROM:-0400
TZOFFSETTO:-0500
TZNAME:EST
DTSTART:20271107T060000
END:STANDARD
END:VTIMEZONE
BEGIN:VEVENT
DTSTART;TZID=America/New_York:20260411T100000
DTEND;TZID=America/New_York:20260411T130000
DTSTAMP:20260424T104640
CREATED:20260318T155352Z
LAST-MODIFIED:20260318T155352Z
UID:10009970-1775901600-1775912400@fortlauderdalemagazine.com
SUMMARY:Kester Park Fun Day
DESCRIPTION:Kester Park Fun Day – STRIKE OUT HEAD & NECK CANCER! 🎉 \nCelebrate the start of Baseball & Softball season with food trucks\, games\, bounce houses\, and family fun—while raising awareness for Head & Neck Cancer. A perfect day of community\, laughter\, and play! \nPlay Ball for a Cause at Kester Park Fun Day! Enjoy delicious food trucks\, a live DJ\, bounce houses\, and even a dunk tank for some splashy fun. Whether you’re here to cheer\, play\, or just hang out\, there’s something for everyone. \nRegister for Spring Baseball/ Softball programs HERE \nStop by and check out all the Kester Park Features: \nTwo dedicated baseball/softball fields\nReconstruction of existing grass areas\nVisitor dugouts\nBleachers with shade structures\nSports lighting\nNew fenced-in outfield & Batting cage\nTwo scoreboards\nCrowd fencing\nNew park lighting and landscape
URL:https://fortlauderdalemagazine.com/event/kester-park-fun-day/
LOCATION:Kester Park\, 702 NE 6th St\, Pompano Beach\, FL\, 33060\, United States
ORGANIZER;CN="Parks &amp%3B Recreation | Pompano Beach":MAILTO:marilyn.oliva@copbfl.com
END:VEVENT
END:VCALENDAR