BEGIN:VCALENDAR
VERSION:2.0
PRODID:-//Fort Lauderdale Magazine - ECPv6.15.18//NONSGML v1.0//EN
CALSCALE:GREGORIAN
METHOD:PUBLISH
X-ORIGINAL-URL:https://fortlauderdalemagazine.com
X-WR-CALDESC:Events for Fort Lauderdale Magazine
REFRESH-INTERVAL;VALUE=DURATION:PT1H
X-Robots-Tag:noindex
X-PUBLISHED-TTL:PT1H
BEGIN:VTIMEZONE
TZID:America/New_York
BEGIN:DAYLIGHT
TZOFFSETFROM:-0500
TZOFFSETTO:-0400
TZNAME:EDT
DTSTART:20250309T070000
END:DAYLIGHT
BEGIN:STANDARD
TZOFFSETFROM:-0400
TZOFFSETTO:-0500
TZNAME:EST
DTSTART:20251102T060000
END:STANDARD
BEGIN:DAYLIGHT
TZOFFSETFROM:-0500
TZOFFSETTO:-0400
TZNAME:EDT
DTSTART:20260308T070000
END:DAYLIGHT
BEGIN:STANDARD
TZOFFSETFROM:-0400
TZOFFSETTO:-0500
TZNAME:EST
DTSTART:20261101T060000
END:STANDARD
BEGIN:DAYLIGHT
TZOFFSETFROM:-0500
TZOFFSETTO:-0400
TZNAME:EDT
DTSTART:20270314T070000
END:DAYLIGHT
BEGIN:STANDARD
TZOFFSETFROM:-0400
TZOFFSETTO:-0500
TZNAME:EST
DTSTART:20271107T060000
END:STANDARD
END:VTIMEZONE
BEGIN:VEVENT
DTSTART;TZID=America/New_York:20260430T193000
DTEND;TZID=America/New_York:20260430T213000
DTSTAMP:20260424T090056
CREATED:20260414T152442Z
LAST-MODIFIED:20260414T152442Z
UID:10010073-1777577400-1777584600@fortlauderdalemagazine.com
SUMMARY:OUTshine LGBTQ+ Film Festival Presents Maspalomas\, its Centerpiece Film & Afterparty
DESCRIPTION:The OUTshine LGBTQ+ Film Festival Spring Edition presents its Centerpiece Film Maspalomas (Spain\, 2025)\, a comedy-drama\, at 7:30 p.m. on April 30\, at the historic Koubek Center (2705 SW 3rd St) in Miami. An afterparty will follow the screening. \nSeventy-six-year-old Vicente is finally living his truth. In the sun-drenched LGBTQ+ haven of Maspalomas\, he spends his days cruising the dunes and his nights in the neon glow of the Yumbo Centre. But when a stroke leaves him partially paralyzed\, he is forced back to his rainy hometown of San Sebastián. Placed in a conservative nursing home by his estranged daughter\, Vicente retreats into the closet. However\, an unlikely friendship with his ebullient\, right-wing roommate and a secret digital life spark a quiet revolution. This poignant look at aging proves that the light of self-discovery never truly fades. \nIn Basque and Spanish with English subtitles\, the film runs 106 minutes. \nThis year’s OUTshine LGBTQ+ Film Festival Spring Edition runs through May 3 with select films available for OUTshine At-Home viewing from May 4 – 10. \nThe OUTshine LGBTQ+ Film Festival Spring Edition is presented by CAN Community Health and The Warten Foundation. Premiere sponsors are Gilead and Comcast; Presenting Media are HotSpots! Media and It’s Happening Out; Grand sponsors are Google\, Wilton River Suites\, Silverspot Cinemas\, Paradigm Cinemas: Gateway Fort Lauderdale\, Major Prevention 305\, Fast Printz\, Tito’s and Commissioner Damian Pardo; Supporting sponsors are Latino Salud J. Mark’s\, Miami Beach Botanical Gardens and Media partners include Culture Owl\, The Bulletin\, I Love Gay Movies\, Miami Herald\, El Nuevo Herald\, MOCHEE\, TampaBayGay.com\, OUTFRONT MEDIA\, OUT SFL\, OutClique\, queerguru.com\, Wire magazine\, Skirt South Florida and GPR| Goodman Public Relations. \nTickets are $40 (plus service fee). OUTshine passholders and Producer Circle members receive priority advance ticket purchase opportunities. For a full listing of films\, parties\, special events and more and to purchase tickets\, visit outshinefilm.com.
URL:https://fortlauderdalemagazine.com/event/outshine-lgbtq-film-festival-presents-maspalomas-its-centerpiece-film-afterparty/
LOCATION:Koubek Center\, 2705 SW 3rd St\, Miami\, FL\, 33135\, United States
ORGANIZER;CN="OUTshine Film Festival":MAILTO:customerservice@outshinefilm.com
END:VEVENT
END:VCALENDAR