BEGIN:VCALENDAR
VERSION:2.0
PRODID:-//Fort Lauderdale Magazine - ECPv6.15.18//NONSGML v1.0//EN
CALSCALE:GREGORIAN
METHOD:PUBLISH
X-WR-CALNAME:Fort Lauderdale Magazine
X-ORIGINAL-URL:https://fortlauderdalemagazine.com
X-WR-CALDESC:Events for Fort Lauderdale Magazine
REFRESH-INTERVAL;VALUE=DURATION:PT1H
X-Robots-Tag:noindex
X-PUBLISHED-TTL:PT1H
BEGIN:VTIMEZONE
TZID:America/New_York
BEGIN:DAYLIGHT
TZOFFSETFROM:-0500
TZOFFSETTO:-0400
TZNAME:EDT
DTSTART:20250309T070000
END:DAYLIGHT
BEGIN:STANDARD
TZOFFSETFROM:-0400
TZOFFSETTO:-0500
TZNAME:EST
DTSTART:20251102T060000
END:STANDARD
BEGIN:DAYLIGHT
TZOFFSETFROM:-0500
TZOFFSETTO:-0400
TZNAME:EDT
DTSTART:20260308T070000
END:DAYLIGHT
BEGIN:STANDARD
TZOFFSETFROM:-0400
TZOFFSETTO:-0500
TZNAME:EST
DTSTART:20261101T060000
END:STANDARD
BEGIN:DAYLIGHT
TZOFFSETFROM:-0500
TZOFFSETTO:-0400
TZNAME:EDT
DTSTART:20270314T070000
END:DAYLIGHT
BEGIN:STANDARD
TZOFFSETFROM:-0400
TZOFFSETTO:-0500
TZNAME:EST
DTSTART:20271107T060000
END:STANDARD
END:VTIMEZONE
BEGIN:VEVENT
DTSTART;TZID=America/New_York:20260416T093000
DTEND;TZID=America/New_York:20260418T180000
DTSTAMP:20260424T104640
CREATED:20251007T164459Z
LAST-MODIFIED:20260318T155352Z
UID:10008546-1776331800-1776535200@fortlauderdalemagazine.com
SUMMARY:2nd International Conference on Infrastructure and Construction Engineering
DESCRIPTION:Join us at the 2nd International Conference on Infrastructure and Construction Engineering (ICICE2026) in Paris\, France\, from April 16-18\, 2026. This conference will bring together professionals\, researchers\, and industry experts to explore the latest trends and innovations in infrastructure and construction engineering.\nDiscussions will cover a wide range of topics\, including smart infrastructure\, sustainability in construction\, BIM (Building Information Modeling)\, and construction safety. It is an excellent opportunity to connect with peers\, learn from experts\, and gain valuable insights into the future of the industry.\nDo not miss out on this exciting event in Paris to shape the future of infrastructure and construction!\n#SmartInfrastructure #SustainableConstruction #FutureOfCivil #BuildBetterCities #GreenEngineering #ConcreteInnovation #NextGenInfrastructure #ResilientStructures #TechInConstruction #CivilBuildsTomorrow\nWe look forward to the honor of welcoming you to ICICE2026 in Paris\, France. \nThanks and Best Regards\,\nAnusha | Conference Secretary\nInfrastructure-2026
URL:https://fortlauderdalemagazine.com/event/2nd-international-conference-on-infrastructure-and-construction-engineering/
LOCATION:Paris\, France\, 22 Av. Jean Lolive \, Pantin\, Paris\, France\, 93500\, Paris\, Paris\, 93500\, France
ATTACH;FMTTYPE=image/jpeg:https://fortlauderdalemagazine.com/wp-content/uploads/2025/09/Conplus-Infrastructure-2026-Logo.jpg
ORGANIZER;CN="Conplus Meetings":MAILTO:icice@conplusmeetings.com
END:VEVENT
BEGIN:VEVENT
DTSTART;VALUE=DATE:20260416
DTEND;VALUE=DATE:20260419
DTSTAMP:20260424T104640
CREATED:20260318T155352Z
LAST-MODIFIED:20260318T155352Z
UID:10008932-1776297600-1776556799@fortlauderdalemagazine.com
SUMMARY:2nd International Conference on Gravitation\, Astrophysics and Cosmology
DESCRIPTION:We are pleased to announce the 2nd International Conference on Gravitation\, Astrophysics and Cosmology (ICGAC2026)\, which will be held from April 16–18\, 2026\, in Paris\, France. ICGAC2026 aims to bring together leading researchers\, scientists\, and students from around the world to share the latest advancements and research findings in the fields of gravitation\, astrophysics\, and cosmology. The conference will feature keynote talks by renowned experts\, sessions on cutting-edge topics such as Gravitation Physics and Lensing\, Applied Relativity\, Solar and Stellar Physics\, Applied Physics\, and Neutrino Cosmology\, as well as opportunities for networking and collaboration. With a vibrant mix of academic and industry perspectives\, this event offers a unique platform for insightful discussions\, new partnerships\, and the exchange of groundbreaking ideas. Join us in Paris to be part of an engaging scientific experience and contribute to shaping the future of astrophysical research.
URL:https://fortlauderdalemagazine.com/event/2nd-international-conference-on-gravitation-astrophysics-and-cosmology/
LOCATION:Paris\, France\, 22 Av. Jean Lolive \, Pantin\, Paris\, France\, 93500\, Paris\, Paris\, 93500\, France
ATTACH;FMTTYPE=image/jpeg:https://fortlauderdalemagazine.com/wp-content/uploads/2026/01/ICGAC2026-Conplus-Poster25-06-20252-scaled.jpg
ORGANIZER;CN="Conplus Meetings":MAILTO:icgac@conplusmeetings.com
END:VEVENT
BEGIN:VEVENT
DTSTART;TZID=America/New_York:20260413T093000
DTEND;TZID=America/New_York:20260415T180000
DTSTAMP:20260424T104640
CREATED:20260318T155352Z
LAST-MODIFIED:20260318T155352Z
UID:10008762-1776072600-1776276000@fortlauderdalemagazine.com
SUMMARY:International Conference on Public Health and Health Care System
DESCRIPTION:PAGES conferences are excited to invite you to the upcoming International Conference on Public Health and Health Care System\, scheduled to take place from April 13-15\, 2026 in the city of finance Paris\, France.  \nThis event will bring together leading experts for keynote addresses\, dynamic panel discussions\, and engaging workshops that aim to poster collaboration and inspire innovative ideas. Topics will span a range of critical areas\, including disease prevention\, health promotion\, epidemiology\, environmental health\, and global health policy. \nOverall\, the  International Conference on Public Health and Health Care Research and Development promises to be an important forum for advancing our understanding of Public Health and Health Care and exploring innovative solutions to global health challenges.  \nWe eagerly anticipate your participation in this exciting and inspiring event in Paris\, France. \nSincerely\,\nJyothsna P | Conference Secretary\nPublic Health-2026
URL:https://fortlauderdalemagazine.com/event/international-conference-on-public-health-and-health-care-system-2/
LOCATION:Paris\, France\, 22 Av. Jean Lolive \, Pantin\, Paris\, France\, 93500\, Paris\, Paris\, 93500\, France
ATTACH;FMTTYPE=image/jpeg:https://fortlauderdalemagazine.com/wp-content/uploads/2025/12/PUBLIC-HEALTH-2026-Logo-Pages.jpg
ORGANIZER;CN="PANGEA GLOBAL EVENTS":MAILTO:publichealth@pagesconferences.org
END:VEVENT
END:VCALENDAR