BEGIN:VCALENDAR
VERSION:2.0
PRODID:-//Fort Lauderdale Magazine - ECPv6.15.18//NONSGML v1.0//EN
CALSCALE:GREGORIAN
METHOD:PUBLISH
X-WR-CALNAME:Fort Lauderdale Magazine
X-ORIGINAL-URL:https://fortlauderdalemagazine.com
X-WR-CALDESC:Events for Fort Lauderdale Magazine
REFRESH-INTERVAL;VALUE=DURATION:PT1H
X-Robots-Tag:noindex
X-PUBLISHED-TTL:PT1H
BEGIN:VTIMEZONE
TZID:America/New_York
BEGIN:DAYLIGHT
TZOFFSETFROM:-0500
TZOFFSETTO:-0400
TZNAME:EDT
DTSTART:20250309T070000
END:DAYLIGHT
BEGIN:STANDARD
TZOFFSETFROM:-0400
TZOFFSETTO:-0500
TZNAME:EST
DTSTART:20251102T060000
END:STANDARD
BEGIN:DAYLIGHT
TZOFFSETFROM:-0500
TZOFFSETTO:-0400
TZNAME:EDT
DTSTART:20260308T070000
END:DAYLIGHT
BEGIN:STANDARD
TZOFFSETFROM:-0400
TZOFFSETTO:-0500
TZNAME:EST
DTSTART:20261101T060000
END:STANDARD
BEGIN:DAYLIGHT
TZOFFSETFROM:-0500
TZOFFSETTO:-0400
TZNAME:EDT
DTSTART:20270314T070000
END:DAYLIGHT
BEGIN:STANDARD
TZOFFSETFROM:-0400
TZOFFSETTO:-0500
TZNAME:EST
DTSTART:20271107T060000
END:STANDARD
END:VTIMEZONE
BEGIN:VEVENT
DTSTART;TZID=America/New_York:20260720T080000
DTEND;TZID=America/New_York:20260721T170000
DTSTAMP:20260424T091017
CREATED:20260408T184529Z
LAST-MODIFIED:20260408T184529Z
UID:10010046-1784534400-1784653200@fortlauderdalemagazine.com
SUMMARY:2nd International Conference on Diabetes and Endocrinology 2026
DESCRIPTION:Dear Esteemed Colleagues\, Researchers and Innovators!\nIt is with great honor and anticipation that we welcome you to the 2nd International Conference on Diabetes and Endocrinology\, to be held in the historic and inspiring city of Paris\, France\, on July 20–21\, 2026.\nTheme: “Global Perspectives on Endocrine Health and Diabetes”\nWe are delighted to cordially invite professionals from around the world to participate in the International Conference on Diabetes and Endocrinology 2026\, hosted by Intelli Meetings. This prestigious event offers a unique platform for Endocrinologists\, healthcare professionals\, academics and researchers to connect\, share insights and collaborate across global boundaries.\nMore about us: https://diabetesconferences.org/\nRegister: https://diabetesconferences.org/registration
URL:https://fortlauderdalemagazine.com/event/2nd-international-conference-on-diabetes-and-endocrinology-2026/
LOCATION:Paris\, France\, 22 Av. Jean Lolive \, Pantin\, Paris\, France\, 93500\, Paris\, Paris\, 93500\, France
ATTACH;FMTTYPE=image/jpeg:https://fortlauderdalemagazine.com/wp-content/uploads/2026/04/paris-france-1.jpg
ORGANIZER;CN="Intelli Global Conferences":MAILTO:endocrinology@intellimeetings.org
END:VEVENT
BEGIN:VEVENT
DTSTART;TZID=America/New_York:20260720T090000
DTEND;TZID=America/New_York:20260720T180000
DTSTAMP:20260424T091017
CREATED:20260318T155351Z
LAST-MODIFIED:20260318T155351Z
UID:10008658-1784538000-1784570400@fortlauderdalemagazine.com
SUMMARY:2ND GLOBAL SUMMIT ON GYNECOLOGY AND WOMENS HEALTH 2026
DESCRIPTION:Greetings from Intelli Global Meetings!\nWe are pleased to invite you to the 2ND GLOBAL SUMMIT ON GYNECOLOGY AND WOMENS HEALTH\, taking place on July 20–21\, 2026\, in Paris\, France\nTheme: “Advancements in Fertility Preservation and Assisted Reproductive Technologies”\nJoin over 300 international professionals\, Gynecologists\, educators\, and researchers for keynote sessions\, presentations\, panel discussions\, and global networking opportunities focused on Advancements in Fertility Preservation and Assisted Reproductive Technologies\nMore about us: https://gynecologyconferences.org/
URL:https://fortlauderdalemagazine.com/event/2nd-global-summit-on-gynecology-and-womens-health-2026-2/
LOCATION:Paris\, France\, 22 Av. Jean Lolive \, Pantin\, Paris\, France\, 93500\, Paris\, Paris\, 93500\, France
ATTACH;FMTTYPE=image/jpeg:https://fortlauderdalemagazine.com/wp-content/uploads/2025/11/gyn-banner-1.jpeg
ORGANIZER;CN="Intelli Global Conferences":MAILTO:contactus@intelliglobalconferences.com
END:VEVENT
BEGIN:VEVENT
DTSTART;TZID=America/New_York:20260720T090000
DTEND;TZID=America/New_York:20260720T180000
DTSTAMP:20260424T091017
CREATED:20260318T155351Z
LAST-MODIFIED:20260318T155351Z
UID:10008676-1784538000-1784570400@fortlauderdalemagazine.com
SUMMARY:INTERNATIONAL CONFERENCE ON CANCER SCIENCE & THERAPY
DESCRIPTION:International conference on Cancer Science & therapy 2026 July 20 & 21 which is going to be held in Paris\, France.
URL:https://fortlauderdalemagazine.com/event/international-conference-on-cancer-science-therapy/
LOCATION:Paris\, France\, 22 Av. Jean Lolive \, Pantin\, Paris\, France\, 93500\, Paris\, Paris\, 93500\, France
CATEGORIES:Other
ATTACH;FMTTYPE=image/png:https://fortlauderdalemagazine.com/wp-content/uploads/2025/11/cancer-1.png
ORGANIZER;CN="private":MAILTO:cancerconfrences292gmail.com
END:VEVENT
BEGIN:VEVENT
DTSTART;TZID=America/New_York:20260720T090000
DTEND;TZID=America/New_York:20260721T180000
DTSTAMP:20260424T091017
CREATED:20260226T172013Z
LAST-MODIFIED:20260318T155351Z
UID:10009716-1784538000-1784656800@fortlauderdalemagazine.com
SUMMARY:International Conference on Diabetes and Endocrinology 2026
DESCRIPTION:Dear Esteemed Colleagues\, Researchers and Innovators!\nIt is with great honor and anticipation that we welcome you to the 2nd International Conference on Diabetes and Endocrinology\, to be held in the historic and inspiring city of Paris\, France\, on July 20–21\, 2026.\nTheme: “Global Perspectives on Endocrine Health and Diabetes”\nWe are delighted to cordially invite professionals from around the world to participate in the International Conference on Diabetes and Endocrinology 2026\, hosted by Intelli Meetings. This prestigious event offers a unique platform for Endocrinologists\, healthcare professionals\, academics and researchers to connect\, share insights and collaborate across global boundaries.\nMore about us: https://diabetesconferences.org/\nRegister: https://diabetesconferences.org/registration
URL:https://fortlauderdalemagazine.com/event/international-conference-on-diabetes-and-endocrinology-2026/
LOCATION:Paris\, France\, 22 Av. Jean Lolive \, Pantin\, Paris\, France\, 93500\, Paris\, Paris\, 93500\, France
CATEGORIES:Business,Charity & Causes,Community,Family & Education,Health, Sports & Fitness
ATTACH;FMTTYPE=image/png:https://fortlauderdalemagazine.com/wp-content/uploads/2026/02/Paris.png
ORGANIZER;CN="Intelli Global Conferences":MAILTO:endocrinology@intellimeetings.org
END:VEVENT
BEGIN:VEVENT
DTSTART;TZID=America/New_York:20260720T090000
DTEND;TZID=America/New_York:20260721T180000
DTSTAMP:20260424T091017
CREATED:20260318T155351Z
LAST-MODIFIED:20260318T155351Z
UID:10008657-1784538000-1784656800@fortlauderdalemagazine.com
SUMMARY:2ND GLOBAL SUMMIT ON GYNECOLOGY AND WOMENS HEALTH 2026
DESCRIPTION:Greetings from Intelli Global Meetings!\nWe are pleased to invite you to the 2ND GLOBAL SUMMIT ON GYNECOLOGY AND WOMENS HEALTH\, taking place on July 20–21\, 2026\, in Paris\, France\nTheme: “Advancements in Fertility Preservation and Assisted Reproductive Technologies”\nJoin over 300 international professionals\, Gynecologists\, educators\, and researchers for keynote sessions\, presentations\, panel discussions\, and global networking opportunities focused on Advancements in Fertility Preservation and Assisted Reproductive Technologies\nMore about us: https://gynecologyconferences.org/
URL:https://fortlauderdalemagazine.com/event/2nd-global-summit-on-gynecology-and-womens-health-2026/
LOCATION:Paris\, France\, 22 Av. Jean Lolive \, Pantin\, Paris\, France\, 93500\, Paris\, Paris\, 93500\, France
ATTACH;FMTTYPE=image/jpeg:https://fortlauderdalemagazine.com/wp-content/uploads/2025/11/gyn-banner.jpeg
ORGANIZER;CN="Intelli Global Conferences":MAILTO:contactus@intelliglobalconferences.com
END:VEVENT
BEGIN:VEVENT
DTSTART;TZID=America/New_York:20260720T090000
DTEND;TZID=America/New_York:20260721T180000
DTSTAMP:20260424T091017
CREATED:20260408T184606Z
LAST-MODIFIED:20260408T184606Z
UID:10010044-1784538000-1784656800@fortlauderdalemagazine.com
SUMMARY:2nd International Conference on Diabetes and Endocrinology 2026
DESCRIPTION:Dear Esteemed Colleagues\, Researchers and Innovators!\nIt is with great honor and anticipation that we welcome you to the 2nd International Conference on Diabetes and Endocrinology\, to be held in the historic and inspiring city of Paris\, France\, on July 20–21\, 2026.\nTheme: “Global Perspectives on Endocrine Health and Diabetes”\nWe are delighted to cordially invite professionals from around the world to participate in the International Conference on Diabetes and Endocrinology 2026\, hosted by Intelli Meetings. This prestigious event offers a unique platform for Endocrinologists\, healthcare professionals\, academics and researchers to connect\, share insights and collaborate across global boundaries.\nMore about us: https://diabetesconferences.org/\nRegister: https://diabetesconferences.org/registration
URL:https://fortlauderdalemagazine.com/event/2nd-international-conference-on-diabetes-and-endocrinology-2026-2/
LOCATION:Paris\, France\, 22 Av. Jean Lolive \, Pantin\, Paris\, France\, 93500\, Paris\, Paris\, 93500\, France
CATEGORIES:Family & Education,Health, Sports & Fitness
ORGANIZER;CN="Intelli Global Conferences":MAILTO:endocrinology@intellimeetings.org
END:VEVENT
END:VCALENDAR