BEGIN:VCALENDAR
VERSION:2.0
PRODID:-//Fort Lauderdale Magazine - ECPv6.15.18//NONSGML v1.0//EN
CALSCALE:GREGORIAN
METHOD:PUBLISH
X-WR-CALNAME:Fort Lauderdale Magazine
X-ORIGINAL-URL:https://fortlauderdalemagazine.com
X-WR-CALDESC:Events for Fort Lauderdale Magazine
REFRESH-INTERVAL;VALUE=DURATION:PT1H
X-Robots-Tag:noindex
X-PUBLISHED-TTL:PT1H
BEGIN:VTIMEZONE
TZID:America/New_York
BEGIN:DAYLIGHT
TZOFFSETFROM:-0500
TZOFFSETTO:-0400
TZNAME:EDT
DTSTART:20250309T070000
END:DAYLIGHT
BEGIN:STANDARD
TZOFFSETFROM:-0400
TZOFFSETTO:-0500
TZNAME:EST
DTSTART:20251102T060000
END:STANDARD
BEGIN:DAYLIGHT
TZOFFSETFROM:-0500
TZOFFSETTO:-0400
TZNAME:EDT
DTSTART:20260308T070000
END:DAYLIGHT
BEGIN:STANDARD
TZOFFSETFROM:-0400
TZOFFSETTO:-0500
TZNAME:EST
DTSTART:20261101T060000
END:STANDARD
BEGIN:DAYLIGHT
TZOFFSETFROM:-0500
TZOFFSETTO:-0400
TZNAME:EDT
DTSTART:20270314T070000
END:DAYLIGHT
BEGIN:STANDARD
TZOFFSETFROM:-0400
TZOFFSETTO:-0500
TZNAME:EST
DTSTART:20271107T060000
END:STANDARD
END:VTIMEZONE
BEGIN:VEVENT
DTSTART;TZID=America/New_York:20260502T100000
DTEND;TZID=America/New_York:20260502T140000
DTSTAMP:20260424T090912
CREATED:20260408T204220Z
LAST-MODIFIED:20260408T204220Z
UID:10010032-1777716000-1777730400@fortlauderdalemagazine.com
SUMMARY:Touch-A-Truck 2026
DESCRIPTION:Honk your hearts out at this year’s Touch -A-Truck event! It is FREE and fun for the whole family. \nGet Ready for a Fun-Filled Touch-A-Truck Experience!\nFamilies and children of all ages are invited to explore an exciting variety of vehicles at our one-of-a-kind Touch-A-Truck event! This hands-on experience gives curious young minds the chance to get up close with a fire engine\, sanitation truck\, dump truck\, police car\, and more. It’s a perfect blend of fun and learning as kids discover how these fascinating vehicles work. \nInterested in becoming a food tent or food truck vendor?\nClick here to apply! \nZensory Zone Van – A Calming Space for All\nWe’re also proud to feature the Zensory Zone Van\, a specially designed area offering a quiet\, supportive environment for individuals who may need a sensory break. Staffed by trained professionals\, the van includes cozy seating\, soft lighting\, and a foam crash pad with a weighted blanket and pillow for deep pressure comfort. \nSensory-friendly items will be available\, including: \nFidget tubes\nTactile books\nStress balls\nNoise-reduction headphones \nThis thoughtful addition ensures that everyone can enjoy the event in a way that’s comfortable and welcoming.
URL:https://fortlauderdalemagazine.com/event/touch-a-truck-2026-2/
LOCATION:Pompano Beach Community Park\, NE 10th Street\, Pompano Beach\, FL\, 33060\, United States
ATTACH;FMTTYPE=image/png:https://fortlauderdalemagazine.com/wp-content/uploads/2026/04/Screenshot-2026-04-01-203855.png
ORGANIZER;CN="Parks &amp%3B Recreation | Pompano Beach":MAILTO:marilyn.oliva@copbfl.com
END:VEVENT
END:VCALENDAR